Workbook
Name BurdenAutoAssess: #REF!
Name BurdenBurden: #REF!
Name BurdenCosphiBurden: #REF!
Name BurdenCosphiTestDefinition: #REF!
Name BurdenManAssess: #REF!
Name BURDENTEST: #REF!
Name BurdenTestDefinition: #REF!
Name Calc_table: #REF!
Name Calculationburden: #REF!
Name Class: #REF!
Name ClassAutoAssess: #REF!
Name ClassManAssess: #REF!
Name ClassmultiplierTestDefinition: #REF!
Name Classstring: #REF!
Name Classstringlong: #REF!
Name Comment: #REF!
Name commtypecolumn1: #REF!
Name Corenumber: #REF!
Name CoretypeTestDefinition: #REF!
Name CurrrainPercStart: #REF!
Name D_TODO_B488: #REF!
Name Datetime: #REF!
Name DeltacompensationRatio: #REF!
Name DevRatio: #REF!
Name DutyTestDefinition: #REF!
Name EddyExcit: #REF!
Name EFLVersion: #REF!
Name EmaxBurdenExci: #REF!
Name EmaxPowerExci: #REF!
Name Endblock1Exci: #REF!
Name Endblock2Exci: #REF!
Name EndRow1: #REF!
Name EndRow2: #REF!
Name EP100PERCXEND: #REF!
Name EP100PERCYEND: #REF!
Name EP10PERCXEND: #REF!
Name EP10PERCYEND: #REF!
Name EPDEFACCCLASS: #REF!
Name EPDEFRATFACTOR: #REF!
Name EPPE10: #REF!
Name EPPE100: #REF!
Name EPPERF: #REF!
Name EPRCF10: #REF!
Name EPRCF100: #REF!
Name EPRCFRF: #REF!
Name EPTABENDBLOCK: #REF!
Name ERRGRA: #REF!
Name ERRGRADEF: #REF!
Name Error: #REF!
Name ErrorCalculation: #REF!
Name ErrorLocationBurden: #REF!
Name ErrorLocationExcitation: #REF!
Name ErrorLocationRatio: #REF!
Name ErrorLocationResistance: #REF!
Name ErrorLocationTestReport: #REF!
Name ErrorNumberBurden: #REF!
Name ErrorNumberExcitation: #REF!
Name ErrorNumberPriority: #REF!
Name ErrorNumberRatio: #REF!
Name ErrorNumberResistance: #REF!

Sheet Confidentiality
A6: Reliable Addition of Large Datacentric Loads
A7: Interconnection Request Data Questionnaire
A8: Technical Information
A9: Version: 2.0
A10: Document ID: 1844b
A11: Approval Date: 09/17/2026
A14: Open Distribution
A15: Copyright © 2026 North American Transmission Forum (“NATF”). All rights reserved. Not for sale or commercial use. The NATF makes no and hereby disclaims all representations or warranties, either express or implied, relating to the content, including as to the accuracy or completeness of the information. No liability is assumed by the NATF for any damages arising directly or indirectly from the content or by the use or application thereof. Use of the content constitutes agreement to defend, indemnify, and hold the NATF harmless from and against all claims arising from such use.

Sheet Workbook Instructions

Sheet General Information
A1: Large Datacentric Load Questionnaire
A2: General Information
A4: Instructions: Please fill-in the GREEN highlighted areas on this page, more instructions below
A6: Requestor Information: | B6: Company Name | C6: ____
B7: Project Name | C7: ____
B8: Project Location | C8: ____
B9: Point of Contact | C9: ____
B10: Title | C10: ____
B11: Phone Number | C11: ____
B12: Email | C12: ____
A13: Owner Information (if not Requestor): | B13: Point of Contact | C13: ____
B14: Title | C14: ____
B15: Phone Number | C15: ____
B16: Email | C16: ____
A17: Tenant Information (if applicable): | B17: Point of Contact | C17: ____
B18: Title | C18: ____
B19: Phone Number | C19: ____
B20: Email | C20: ____
A21: Data Center Information: | B21: Type | C21: ____
B22: Anticipated Peak Load (MW) | C22: ____
A23: Technical Lead on Data and Models: | B23: Point of Contact | C23: ____
B24: Title | C24: ____
B25: Phone Number | C25: ____
B26: Email | C26: ____
A27: Dates and Schedule: | B27: Initial Request | C27: ____
B28: Date of Site Control | C28: ____
B29: Questionnaire Completed | C29: ____
B30: Desired In-service Date | C30: ____
A34: Objective:
A35: Detailed data for large datacentric loads is essential for evaluation of the interconnection to commence. Interconnection requests must include a wide range of general information about the interconnection customer, site, and technical data about the nature of the load and potential on-site generation, batteries, uninterruptible power supply (UPS) systems, on-site resources, and load models for adequate interconnection evaluations to occur. Accurate and complete data submittals lead to better interconnection studies and (potentially) a faster interconnection process.

Sheet Load Components by Type
A1: Large Datacentric Load Questionnaire
A2: Load Components by Type
A6: Company Name | B6: ='General Information'!C6 -> ____ | E6: Type or Use | F6: ='General Information'!C21 -> ____
A7: Project Name | B7: ='General Information'!C7 -> ____ | E7: Initial Request | F7: ='General Information'!C27 -> ____
A8: Project Location | B8: ='General Information'!C8 -> ____ | E8: Energization Date | F8: ='General Information'!C30 -> ____
A12: Objective:
A13: Large data center facilities represent complex, highly concentrated electrical loads with stringent requirements for reliability, power quality, redundancy, and scalability. Unlike conventional commercial or industrial facilities, data centers combine large continuous electronic loads with significant supporting mechanical and power-conditioning infrastructure. Major categories of loads typically present in a hyperscale or large enterprise data center include information technology (servers, storage, network hardware, etc.), lighting, power conditioning and distribution, cooling, and other auxiliary loads which support the balance of plant.
A14: Provide the percentage breakdown of total MW consumption by the following components:
D15: Computing / server load
D16: Lighting load
D17: Power distribution losses
D18: Cooling load
D19: Other auxiliary loads
A21: Provide the percentage of the total facility load (MW) that is IT equipment during each season of build-out:
D22: Year 0 (Initial Load)
D23: Year 1
D24: Year 2
D25: Year 3
D26: Year 4
D27: Year 5
D28: Highest peak in first 10 years
D29: Year 15
A31: Specify if the data center has a forced cooling system and, if so, identify the type:
A32: Computer Room Air Conditioners (CRACs) with internal compressors
A33: Computer Room Air Handlers (CRAHs) supplied with chilled water
A34: Air-Handling Units (AHUs) dedicated to data center space
A35: Direct liquid cooling (to chip or rack level)
A36: Other (specify)
A38: Identify how the motor components of the cooling system are driven:
A39: Single-speed AC directly connected | D39: Single-speed AC directly connected
A40: Variable Frequency Drive (VFD) / inverter controlled | D40: Single-speed AC directly connected
A41: Other (specify) | D41: Single-speed AC directly connected
A43: Identify the Power Usage Effectiveness (PUE) target at full build-out
A45: List the characteristics and MW (or %) of large motor loads (>=100 hp) - type, quantity, and starting method
A47: List the characteristics and MW (or %) of small motor loads (<100 hp) - type, quantity, and drive type
A50: Specify the transformer characteristics:
A51: Nameplate rating (MVA) | D51: Single-speed AC directly connected
A52: Voltage ratio (primary / secondary) | D52: Single-speed AC directly connected
A53: Impedance (%Z) | D53: Single-speed AC directly connected
A54: Tap changer type (OLTC, NLTC, or fixed) | D54: Single-speed AC directly connected
...

Sheet Composite Load Model
A1: Large Datacentric Load Questionnaire
A2: Composite Load Model
A6: Company Name | B6: ='General Information'!C6 -> ____ | E6: Type or Use | F6: ='General Information'!C21 -> ____
A7: Project Name | B7: ='General Information'!C7 -> ____ | E7: Initial Request | F7: ='General Information'!C27 -> ____
A8: Project Location | B8: ='General Information'!C8 -> ____ | E8: Energization Date | F8: ='General Information'!C30 -> ____
A12: Objective:
A13: Provide key components for composite load model with percentage breakdown by load type.
A18: Figure source: M. Saravanan, "ISO New England Composite Load Model: High-Level Overview, Benefits, Transition Roadmap and RFP Focus," [Online]. Available: https://www.iso-ne.com/static-assets/documents/100020/a07_2025_02_26_pac_composite_load_model.pdf.
A19: Item | B19: Description | G19: Percentage
A20: Motor A | B20: Percentage of load consisting of three-phase induction motors with low inertia (H=0.1 sec) driving constant torque loads. These motors are found in commercial/industrial air conditioning compressors and refrigeration systems (not NEMA B). | G20: %
B21: Smaller 5–15 HP compressor motors typical of rooftop air conditioning units commonly found at grocery stores, consumer products stores, and malls.
B22: Larger 200–500 HP compressor motors are typical of large commercial buildings’ central cooling systems
A23: Motor B | B23: Percentage of load consisting of three-phase induction motors with high inertia (H=0.25–0.10 sec) driving loads whose torque is proportional to speed squared. These motors are found in commercial ventilation fans and air-handling systems. | G23: %
B24: 5–25 HP fan motors, which are normally NEMA B motors.
A25: Motor C | B25: Percentage of load consisting of three-phase induction motors with low inertia (H=0.1–0.2 sec). This represents motors commonly found in commercial water circulation pumps in central cooling systems. | G25: %
B26: 5–25 HP pump motors, which are normally NEMA B motors.
A27: Motor D | B27: Percentage of load consisting of single-phase air conditioners. This represents commonly found residential single-phase air conditioners. | G27: %
A28: Electronic Load | B28: Percentage of load consisting of power electronic converters. These are constant active and reactive power loads. | G28: %
A29: Static Load | B29: Percentage of load that will be static. This represents incandescent lighting and all other loads whose behavior changes with voltage magnitude. | G29: %
A30: Table Source: Georgia Transmission Company, "Large Load Technical Data Sheet," 2025. [Online]. Available: https://www.oasis.oati.com/woa/docs/GTC/GTCdocs/Large_Load_Technical_Data_Sheet_11-1-25.pdf.

Sheet PERC1 or ISO-NE Model
A1: Large Datacentric Load Questionnaire
A2: PERC1 or ISO-NE Model
A6: Company Name | B6: ='General Information'!C6 -> ____ | E6: Type or Use | F6: ='General Information'!C21 -> ____
A7: Project Name | B7: ='General Information'!C7 -> ____ | E7: Initial Request | F7: ='General Information'!C27 -> ____
A8: Project Location | B8: ='General Information'!C8 -> ____ | E8: Energization Date | F8: ='General Information'!C30 -> ____
A12: Objective:
A13: Provide ceasing and reconnection timing to populate PERC1 and/or ISO-NE UDM models.
A18: Figure Source: PowerWorld Corporation, "Transient Models - Load Characteristic Model: PERC1," 2025. [Online]. Available: https://www.powerworld.com/WebHelp/Content/TransientModels_HTML/Load%20Characteristic%20PERC1.htm.
A19: Item | B19: Description | G19: Percentage
A20: Fcease | B20: Fraction that will cease (between 0 and 1)
A21: Vcease | B21: Voltage threshold for cease logic [per unit]
A22: Tcease | B22: Time delay for cease logic to be initiated for (>= 0) [seconds]
A23: Vrecon | B23: Voltage threshold to initiate power ramp reconnection logic (Vrecon >= Vcease) [per unit]
A24: Trecon | B24: Time delay for ramp up logic to be initiated (>= 0) [seconds]
A25: Tramp | B25: Ramp up time (>= 0) [seconds]
A26: Frecon | B26: Of the Fraction that ceases, this is the fraction that then reconnects (between 0 and 1)t]
A27: Table Source: PowerWorld Corporation, "Transient Models - Load Characteristic Model: PERC1," 2025. [Online]. Available: https://www.powerworld.com/WebHelp/Content/TransientModels_HTML/Load%20Characteristic%20PERC1.htm.

Sheet Reactive Devices
A1: Large Datacentric Load Questionnaire
A2: Reactive Devices
A6: Company Name | B6: ='General Information'!C6 -> ____ | E6: Type or Use | F6: ='General Information'!C21 -> ____
A7: Project Name | B7: ='General Information'!C7 -> ____ | E7: Initial Request | F7: ='General Information'!C27 -> ____
A8: Project Location | B8: ='General Information'!C8 -> ____ | E8: Energization Date | F8: ='General Information'!C30 -> ____
A12: Objective:
A13: Data centers can have large inductive and power electronic loads, which can significantly influence the stability of the grid, and some facilities may employ active power factor correction onsite. Require the interconnection customer to provide the following information:
A14: Device nameplate specifications for all reactive devices at the facility:
A17: Purpose of reactive devices and control objective:
A20: Specify whether reactive components are fixed or variable:
A23: Anticipated real-time and historical reactive power demand based on comparable facilities:
A26: Anticipated instantaneous power factor and whether any power factor correction equipment will be utilized:
A29: Specifications for reactive devices that will be configured as harmonic filters including filter type,
A30: tuning frequencies, and control methodology:
A33: Power factor correction methods to address dynamic operational changes from datacentric loads:

Sheet Short-Circuit Ratings
A1: Large Datacentric Load Questionnaire
A2: Short Circuit Ratings
A6: Company Name | B6: ='General Information'!C6 -> ____ | E6: Type or Use | F6: ='General Information'!C21 -> ____
A7: Project Name | B7: ='General Information'!C7 -> ____ | E7: Initial Request | F7: ='General Information'!C27 -> ____
A8: Project Location | B8: ='General Information'!C8 -> ____ | E8: Energization Date | F8: ='General Information'!C30 -> ____
A12: Objective:
A13: Data centers have sensitive electronics and may include onsite generation. Understanding how the facility may impact the grid and any grid strength requirements is important for completing interconnection assessments. Require the interconnection customer to provide the following information to identify the short circuit impacts on the Point of Interconnection (POI) and allow study of the ability of the system to serve the load reliably:
A14: Connecting transformer configuration:
A17: Data for each backup generator (energy storage) on the customer side of the POI including, size,
A18: impedance, and type (inverter based, synchronous, etc.):
A21: Whether backup generators will ever run in parallel with the connected utility system:
A24: Information on required minimum grid strength in terms of short circuit ratio (SCR) needed for data center operations:
A27: Note: During the interconnection study, the utility will identify the maximum fault current availability of the planned interconnection as well as minimum N-1 fault current availability. The interconnection customer is expected to ensure its equipment is rated to withstand the provided maximum fault duty including a margin for system growth.

Sheet Power Quality
A1: Large Datacentric Load Questionnaire
A2: Power Quality
A6: Company Name | B6: ='General Information'!C6 -> ____ | E6: Type or Use | F6: ='General Information'!C21 -> ____
A7: Project Name | B7: ='General Information'!C7 -> ____ | E7: Initial Request | F7: ='General Information'!C27 -> ____
A8: Project Location | B8: ='General Information'!C8 -> ____ | E8: Energization Date | F8: ='General Information'!C30 -> ____
A12: Objective:
A13: Large datacentric loads will be subject to analysis demonstrating that they will not adversely impact the power quality of the electrical system. In general, objectionable power quality impacts are not expected when analysis indicates power quality requirements will be satisfied. Require the customer to provide the following basic technical planning data required to be submitted to evaluate the load with respect to harmonic distortion, voltage fluctuations and associated light flicker, rapid voltage change, voltage unbalance, and voltage and frequency variation ride through performance.
A14: Expected facility harmonic current injection spectrum, up to the 50th harmonic order, aggregated at
A15: the reference point of applicability:
A18: Expected magnitude and frequency of variations in active and reactive power, aggregated at the reference
A19: point of applicability:

Sheet Voltage Performance
A1: Large Datacentric Load Questionnaire
A2: Voltage Performance
A6: Company Name | B6: ='General Information'!C6 -> ____ | E6: Type or Use | F6: ='General Information'!C21 -> ____
A7: Project Name | B7: ='General Information'!C7 -> ____ | E7: Initial Request | F7: ='General Information'!C27 -> ____
A8: Project Location | B8: ='General Information'!C8 -> ____ | E8: Energization Date | F8: ='General Information'!C30 -> ____
A12: Objective:
A13: Voltage performance under various system conditions must be specified and understood to evaluate interconnection requests effectively. Require the following voltage performance information including reconnection times to align with performance requirements such as ride-through:
A14: Voltage sag level/duration at which the predominant load (computer/server loads) disconnects from the utility system:
A17: Voltage sag level/duration at which the cooling load disconnects from the utility system:
A20: Measurement method (per phase or three-phase RMS) for voltage sag levels used for disconnection:
A23: Voltage swell level/duration at which the predominant load (computer/server loads) disconnects from the utility system:
A26: Voltage swell level/duration at which the cooling load disconnects from the utility system:
A29: Measurement method (per phase or three-phase RMS) for voltage swell levels used for disconnection:
A32: Threshold number of voltage disturbances used to determine disconnection from the utility system:

Sheet Frequency Performance
A1: Large Datacentric Load Questionnaire
A2: Frequency Performance
A6: Company Name | B6: ='General Information'!C6 -> ____ | E6: Type or Use | F6: ='General Information'!C21 -> ____
A7: Project Name | B7: ='General Information'!C7 -> ____ | E7: Initial Request | F7: ='General Information'!C27 -> ____
A8: Project Location | B8: ='General Information'!C8 -> ____ | E8: Energization Date | F8: ='General Information'!C30 -> ____
A12: Objective:
A13: Similarly, frequency performance under various system conditions must be specified and understood to evaluate interconnection requests effectively. Require the following frequency performance information including reconnection times to align with performance requirements such as ride-through:
A14: Frequency sag level/duration at which the predominant load (computer/server loads) disconnects from the utility system:
A17: Frequency sag level/duration at which the cooling load disconnects from the utility system:
A20: Frequency swell level/duration at which the predominant load (computer/server loads) disconnects from the utility system:
A23: Frequency swell level/duration at which the cooling load disconnects from the utility system:

Sheet UPS and Generation Data
A1: Large Datacentric Load Questionnaire
A2: UPS and Generation Data
A6: Company Name | B6: ='General Information'!C6 -> ____ | E6: Type or Use | F6: ='General Information'!C21 -> ____
A7: Project Name | B7: ='General Information'!C7 -> ____ | E7: Initial Request | F7: ='General Information'!C27 -> ____
A8: Project Location | B8: ='General Information'!C8 -> ____ | E8: Energization Date | F8: ='General Information'!C30 -> ____
A12: Objective:
A13: Since short-duration power disturbances can result in service outages, data corruption, or permanent equipment damage, UPS systems are also a fundamental component of data center electrical infrastructure. UPS systems protect data center loads from power interruptions, voltage sags/swells, frequency deviations, and waveform distortions, thereby ensuring continuity of operations and maintaining equipment reliability. Require the following information on datacenter UPS and backup generation:
A14: Specify if the computational load has a UPS
A16: If the computation load has a UPS, provide the following information:
A18: Type(s) of UPS
A19: UPS computational load
A20: UPS capacity (MVA) and % of the facility load supported by UPS
A21: UPS input power factor (based on measurement/ facility design or UPS parameter data)
A22: Normal Operation mode of the data center IT load
A23: IT/Computing load battery design back up time (in sec)
A25: Explain the characteristics (manual or automatic) that lead to reconnection to the grid:
A28: Time duration for load transfer to occur
... A44: Are periodic operational tests conducted that involve actual load transfer through the UPS system? If so, describe them:

Sheet Battery Storage
A1: Large Datacentric Load Questionnaire
A2: Battery Storage
A6: Company Name | B6: ='General Information'!C6 -> ____ | E6: Type or Use | F6: ='General Information'!C21 -> ____
A7: Project Name | B7: ='General Information'!C7 -> ____ | E7: Initial Request | F7: ='General Information'!C27 -> ____
A8: Project Location | B8: ='General Information'!C8 -> ____ | E8: Energization Date | F8: ='General Information'!C30 -> ____
A12: Objective:
A13: Utility scale battery energy storage systems are mature technologies that provide longer duration services such as peak shaving, frequency regulation, and grid balancing to help maintain system reliability over broad geographic areas. These solutions operate from cycles to hours and support the stability of the electrical grid by smoothing large scale variability and enabling greater renewable integration. Inside facilities, battery storage operates in much the same way to mitigate the highly variable power profiles associated with datacentric workloads including emerging artificial intelligence learning modes in data centers. Rather than contributing to regional energy balancing, facility level batteries act within the plant to buffer fast transients, protect onsite generation, and maintain internal power quality. Battery storage should also be evaluated alongside other fast response technologies—such as STATCOMs—that provide voltage stabilization and reactive support, helping determine the most appropriate solution for a facility’s specific challenges.
A14: Specify if the computational load has onsite battery storage
A16: If the computation load has onsite battery storage, provide the following information:
A18: Continuous/peak AC power (MW/MVA), duration (minutes/hours), and minimum/maximum state‑of‑charge constraints
A19: aligned to operational scenarios.
A22: Response‑time & ramp‑rate requirements including voltage droop settings:
A24: Battery ride-through curves and settings:
A27: Coordination and confirmation of protection setpoints between the facility and the utility including
A28: over/under voltage/frequency trip points.
A31: Short‑circuit & fault behavior: Expected fault current contribution (magnitude, duration).
A34: Power quality limits and filtering needs: Harmonics, flicker, and any reactive power/voltage support setpoints.
... A61: secure interfaces, and audit logging).
